BEGIN:VCALENDAR
VERSION:2.0
PRODID:-//Holy Spirit, Southway - ECPv6.10.1.1//NONSGML v1.0//EN
CALSCALE:GREGORIAN
METHOD:PUBLISH
X-ORIGINAL-URL:https://holyspiritsouthway.org.uk
X-WR-CALDESC:Events for Holy Spirit, Southway
REFRESH-INTERVAL;VALUE=DURATION:PT1H
X-Robots-Tag:noindex
X-PUBLISHED-TTL:PT1H
BEGIN:VTIMEZONE
TZID:UTC
BEGIN:STANDARD
TZOFFSETFROM:+0000
TZOFFSETTO:+0000
TZNAME:UTC
DTSTART:20250101T000000
END:STANDARD
END:VTIMEZONE
BEGIN:VEVENT
DTSTART;TZID=UTC:20250126T110000
DTEND;TZID=UTC:20250126T120000
DTSTAMP:20260420T085417
CREATED:20241229T151346Z
LAST-MODIFIED:20241229T151346Z
UID:2081-1737889200-1737892800@holyspiritsouthway.org.uk
SUMMARY:Holy Communion
DESCRIPTION:Eucharist
URL:https://holyspiritsouthway.org.uk/event/holy-communion-3/
LOCATION:Church of the Holy Spirit\, Church of the Holy Spirit\, Clittaford Road\, Southway\, Plymouth\, PL6 6DJ
CATEGORIES:Sunday services
END:VEVENT
BEGIN:VEVENT
DTSTART;TZID=UTC:20250119T110000
DTEND;TZID=UTC:20250119T120000
DTSTAMP:20260420T085417
CREATED:20241229T151313Z
LAST-MODIFIED:20241229T151313Z
UID:2079-1737284400-1737288000@holyspiritsouthway.org.uk
SUMMARY:Holy Communion
DESCRIPTION:Eucharist
URL:https://holyspiritsouthway.org.uk/event/holy-communion-2/
LOCATION:Church of the Holy Spirit\, Church of the Holy Spirit\, Clittaford Road\, Southway\, Plymouth\, PL6 6DJ
CATEGORIES:Sunday services
END:VEVENT
BEGIN:VEVENT
DTSTART;TZID=UTC:20250112T110000
DTEND;TZID=UTC:20250112T120000
DTSTAMP:20260420T085417
CREATED:20241229T151234Z
LAST-MODIFIED:20241229T151234Z
UID:2077-1736679600-1736683200@holyspiritsouthway.org.uk
SUMMARY:Holy Communion
DESCRIPTION:Eucharist
URL:https://holyspiritsouthway.org.uk/event/holy-communion/
LOCATION:Church of the Holy Spirit\, Church of the Holy Spirit\, Clittaford Road\, Southway\, Plymouth\, PL6 6DJ
CATEGORIES:Sunday services
END:VEVENT
BEGIN:VEVENT
DTSTART;TZID=UTC:20250105T110000
DTEND;TZID=UTC:20250105T120000
DTSTAMP:20260420T085417
CREATED:20241229T151008Z
LAST-MODIFIED:20241229T151008Z
UID:2075-1736074800-1736078400@holyspiritsouthway.org.uk
SUMMARY:All Age Worship
DESCRIPTION:
URL:https://holyspiritsouthway.org.uk/event/all-age-worship/
LOCATION:Church of the Holy Spirit\, Church of the Holy Spirit\, Clittaford Road\, Southway\, Plymouth\, PL6 6DJ
CATEGORIES:Sunday services
END:VEVENT
END:VCALENDAR